BEGIN:VCALENDAR
VERSION:2.0
PRODID:-//eventon.com NONSGML v1.0//EN
BEGIN:VEVENT
UID:69e88eab84ccc
DTSTAMP:20260422T110235
DTSTART:20261127
DTEND:20261129
TZID:Europe/Berlin
LOCATION:
SUMMARY:Städtetour Dresden
DESCRIPTION: Städtetour Dresden Mehr Infos kommen bald\,  aber hier schon mal das Safe the Date &nbsp; &nbsp;\nhttps://kljb-augsburg.de/events/staedtetour-dresden-2/
URL:https://kljb-augsburg.de/events/staedtetour-dresden-2/
END:VEVENT
END:VCALENDAR