BEGIN:VCALENDAR
VERSION:2.0
PRODID:-//eventon.com NONSGML v1.0//EN
BEGIN:VEVENT
UID:69e9de8cc3c38
DTSTAMP:20260423T105540
DTSTART:20250411
DTEND:20250411
TZID:UTC
LOCATION:Landjugendhaus Kienberg 
SUMMARY:Diözesanversammlung 1_25
DESCRIPTION: Das höchste Gremium der Katholischen Landjugendbewegung der Diözese Augsburg ist die Diözesanversammlung (DV). Mitglieder des Vorstandes\,  Delegierte der Ortsgruppen und Vertreter aus den Kreis- bzw. Dekanatsvorstände kommen zusammen\,  um den Diözesanvorstand zu bestimmen\,  Aktivitäten festzulegen\,  Berichte entgegenzunehmen und natürlich sich auszutauschen. Die Versammlung findet mindestens einmal\,  in der Regel jedoch[..]\nhttps://kljb-augsburg.de/events/dioezesanversammlung-1_25/
URL:https://kljb-augsburg.de/events/dioezesanversammlung-1_25/
END:VEVENT
END:VCALENDAR