BEGIN:VCALENDAR
VERSION:2.0
PRODID:-//eventon.com NONSGML v1.0//EN
BEGIN:VEVENT
UID:69e4d4d9af368
DTSTAMP:20260419T151257
DTSTART:20230119
DTEND:20230124
TZID:UTC
LOCATION:Berlin 
SUMMARY:IGW-Fahrt 2023
DESCRIPTION: Die Studienfahrt zur IGW (Internationale Grünen Woche) findet 2023 vom 19.-24. Januar statt. Programmhöhepunkte sind: &#8211; Landjugendgottesdienst und -ball &#8211; IGW-Besuch &#8211; Musical &#8211; Botanischer Garten &#8211; Hanfmuseum Kosten: 330€ für KLJBler*innen /380€ für Nicht-Mitglieder Anmeldeschluss ist der 04.11.2022 Kontakt: KLJB Augsburg E-Mail: dioezesanstelle@kljb-augsburg.de Tel.: 0821 3166-3461\nhttps://kljb-augsburg.de/events/igw-fahrt-2023/
URL:https://kljb-augsburg.de/events/igw-fahrt-2023/
END:VEVENT
END:VCALENDAR