BEGIN:VCALENDAR
VERSION:2.0
PRODID:-//eventon.com NONSGML v1.0//EN
BEGIN:VEVENT
UID:69e4eb839c74a
DTSTAMP:20260419T164939
DTSTART:20220612
DTEND:20220619
TZID:UTC
LOCATION:Schwäbische Jugend- und Begegnungsstätte Babenhausen Am Espach 7\,  87727 Babenhausen
SUMMARY:German/Lebanese Youth Project
DESCRIPTION: Termin verschoben! Jugendliche aus Deutschland und dem Libanon kommen zu einem gemeinsamen Workshop zusammen und tauschen sich aus zu Kultur\,  Politik\,  Gesellschaft\,  Nachhaltigkeit und Umwelt. 12.-19.06.2022 in Babenhausen 17.-25.09.2022 im Libanon Bitte beachte: Verkehrssprache während des Workshops ist Englisch. Alle näheren Infos sowie die Anmeldeinformationen entnimmst du dem Flyer_Libanon.\nhttps://kljb-augsburg.de/events/germanlebanese-youth-project/
URL:https://kljb-augsburg.de/events/germanlebanese-youth-project/
END:VEVENT
END:VCALENDAR