BEGIN:VCALENDAR
VERSION:2.0
PRODID:-//eventon.com NONSGML v1.0//EN
BEGIN:VEVENT
UID:69e5f02205eae
DTSTAMP:20260420T112138
DTSTART:20221007
DTEND:20221009
TZID:UTC
LOCATION:Landjugendhaus Kienberg 
SUMMARY:DVV II/2022
DESCRIPTION: Das höchste Gremium der KLJB Augsburg ist die Diözesanversammlung (DV). Mitglieder des Vorstandes\,  Delegierte der Ortsgruppen und Vertreter aus den Kreis- bzw. Dekanatsvorstände kommen zusammen\,  um den Diözesanvorstand zu bestimmen\,  Aktivitäten festzulegen\,  Berichte entgegenzunehmen und natürlich sich auszutauschen. Die Versammlung findet mindestens einmal\,  in der Regel jedoch zweimal &#8211; im[..]\nhttps://kljb-augsburg.de/events/dvv-ii2022/
URL:https://kljb-augsburg.de/events/dvv-ii2022/
END:VEVENT
END:VCALENDAR